BEGIN:VCALENDAR
METHOD:PUBLISH
PRODID:hpc-fau-de//Events//EN
VERSION:2.0
BEGIN:VEVENT
SUMMARY:Monthly HPC Café: Profiling and Bottleneck Analysis of AI Wor
 kloads with Nsight Systems
UID:040000008200E00074C5B7101A82E0080000000090572FE5C7C1DC010000000000
 00000010000000CF1B67B29B493747B04A09F1C1E3B23F
DESCRIPTION:The HPC Café (https://hpc.fau.de/systems-services/support
 /hpc-cafe/) complements the existing support channels and training off
 erings of the Erlangen National High Performance Computing Center (NHR
 @FAU). Every second Tuesday of the month\, HPC users and the HPC group
  meet here to get to know each other\, exchange and collect ideas\, gi
 ve feedback\, or contribute wishes and suggestions for improvement. To
 pic: Profiling and Bottleneck Analysis of AI Workloads with Nsight Sys
 tems Speaker: Robert Dietrich\, NVIDIA Time: Tuesday\, April 14\, at 4
 . p.m. Duration: approx. 1-2 hours Location: (online talk and on-site 
 watch party): RRZE\, Martensstr. 1\, Seminar Room 2.049 and Zoom: http
 s://go-nhr.de/hpc-cafe Please find all information on the following we
 bsite: https://hpc.fau.de/2026/03/31/monthly-hpc-cafe-profiling-and-bo
 ttleneck-analysis-of-ai-workloads-with-nsight-systems-april-14-online-
 and-watch-party/ This event is organized by Erlangen National High Per
 formance Computing Center (NHR@FAU\, https://nhr.fau.de/) c/o Erlangen
  Regional Computing Center (RRZE). Inquiries may be sent to hpc-suppor
 t@fau.de.
DTSTART:20260414T140000Z
DTEND:20260414T153000Z
LOCATION:online via zoom and on-site watch party
DTSTAMP:20260421T100525Z
END:VEVENT
END:VCALENDAR